BEGIN:VCALENDAR
VERSION:2.0
PRODID:-//wp-events-plugin.com//7.2.3.1//EN
TZID:Europe/Vienna
X-WR-TIMEZONE:Europe/Vienna
BEGIN:VEVENT
UID:3@stadtkapelle-kirchdorf.at
DTSTART;TZID=Europe/Vienna;VALUE=DATE:20230501
DTEND;TZID=Europe/Vienna;VALUE=DATE:20230502
DTSTAMP:20230402T165034Z
URL:https://www.stadtkapelle-kirchdorf.at/events/maibaumaufstellen/
SUMMARY:Maibaumaufstellen
DESCRIPTION:Am Vormittag des 1. Mai umrahmen wir wieder das alljährliche M
 aibaumaufstellen am Hauptplatz Kirchdorf.
ATTACH;FMTTYPE=image/jpeg:https://www.stadtkapelle-kirchdorf.at/wp-content
 /uploads/logo/Folder.png
CATEGORIES:Platzkonzert
LOCATION:Hauptplatz Kirchdorf\, Hauptplatz\, Kirchdorf an der Krems\, Ober
 österreich\, 4560\, Österreich
X-APPLE-STRUCTURED-LOCATION;VALUE=URI;X-ADDRESS=Hauptplatz\, Kirchdorf an d
 er Krems\, Oberösterreich\, 4560\, Österreich;X-APPLE-RADIUS=100;X-TITLE
 =Hauptplatz Kirchdorf:geo:0,0
END:VEVENT
BEGIN:VTIMEZONE
TZID:Europe/Vienna
X-LIC-LOCATION:Europe/Vienna
BEGIN:DAYLIGHT
DTSTART:20230326T030000
TZOFFSETFROM:+0100
TZOFFSETTO:+0200
TZNAME:CEST
END:DAYLIGHT
END:VTIMEZONE
END:VCALENDAR